BEGIN:VCALENDAR
VERSION:2.0
PRODID:-//Leoni Jansen - ECPv6.15.17//NONSGML v1.0//EN
CALSCALE:GREGORIAN
METHOD:PUBLISH
X-ORIGINAL-URL:https://www.leoni.nl
X-WR-CALDESC:Events for Leoni Jansen
REFRESH-INTERVAL;VALUE=DURATION:PT1H
X-Robots-Tag:noindex
X-PUBLISHED-TTL:PT1H
BEGIN:VTIMEZONE
TZID:Europe/Amsterdam
BEGIN:DAYLIGHT
TZOFFSETFROM:+0100
TZOFFSETTO:+0200
TZNAME:CEST
DTSTART:20230326T010000
END:DAYLIGHT
BEGIN:STANDARD
TZOFFSETFROM:+0200
TZOFFSETTO:+0100
TZNAME:CET
DTSTART:20231029T010000
END:STANDARD
BEGIN:DAYLIGHT
TZOFFSETFROM:+0100
TZOFFSETTO:+0200
TZNAME:CEST
DTSTART:20240331T010000
END:DAYLIGHT
BEGIN:STANDARD
TZOFFSETFROM:+0200
TZOFFSETTO:+0100
TZNAME:CET
DTSTART:20241027T010000
END:STANDARD
BEGIN:DAYLIGHT
TZOFFSETFROM:+0100
TZOFFSETTO:+0200
TZNAME:CEST
DTSTART:20250330T010000
END:DAYLIGHT
BEGIN:STANDARD
TZOFFSETFROM:+0200
TZOFFSETTO:+0100
TZNAME:CET
DTSTART:20251026T010000
END:STANDARD
END:VTIMEZONE
BEGIN:VEVENT
DTSTART;TZID=Europe/Amsterdam:20241116T200000
DTEND;TZID=Europe/Amsterdam:20241116T230000
DTSTAMP:20260421T104504
CREATED:20240920T171508Z
LAST-MODIFIED:20240920T171508Z
UID:2607-1731787200-1731798000@www.leoni.nl
SUMMARY:Leoni Jansen Solo - Leusden
DESCRIPTION:Terwijl de wereld in brand staat\, trekt Leoni Jansen de theaters in om te zingen én te vertellen. Ze leest columns voor over haar leven op de boerderij en verhaalt over ongewenste dieren\, pelgrimstochten en haar liefde voor de natuur. Met een karrevracht aan muzikale ervaring en drie gitaren in de bagage brengt Jansen natuurlijk ook de nodige nummers ten gehore. Geniet van liedjes als ‘Kind van de Maan’\, ‘Klaverveld’ en ‘Blowin’ in the Wind’.
URL:https://www.leoni.nl/event/leoni-jansen-solo-leusden/
LOCATION:Theater De Tuin\, Leusden
END:VEVENT
BEGIN:VEVENT
DTSTART;TZID=Europe/Amsterdam:20241115T200000
DTEND;TZID=Europe/Amsterdam:20241115T230000
DTSTAMP:20260421T104504
CREATED:20240920T171242Z
LAST-MODIFIED:20240920T171242Z
UID:2604-1731700800-1731711600@www.leoni.nl
SUMMARY:Leoni Jansen Solo - Limmen
DESCRIPTION:Terwijl de wereld in brand staat\, trekt Leoni Jansen de theaters in om te zingen én te vertellen. Ze leest columns voor over haar leven op de boerderij en verhaalt over ongewenste dieren\, pelgrimstochten en haar liefde voor de natuur. Met een karrevracht aan muzikale ervaring en drie gitaren in de bagage brengt Jansen natuurlijk ook de nodige nummers ten gehore. Geniet van liedjes als ‘Kind van de Maan’\, ‘Klaverveld’ en ‘Blowin’ in the Wind’.
URL:https://www.leoni.nl/event/leoni-jansen-solo-limmen/
LOCATION:Limmen Cultuur\, Limmen
END:VEVENT
BEGIN:VEVENT
DTSTART;TZID=Europe/Amsterdam:20241110T153000
DTEND;TZID=Europe/Amsterdam:20241110T173000
DTSTAMP:20260421T104504
CREATED:20240921T173116Z
LAST-MODIFIED:20240921T173116Z
UID:2625-1731252600-1731259800@www.leoni.nl
SUMMARY:Leoni Jansen Solo - Tilburg
DESCRIPTION:Terwijl de wereld in brand staat\, trekt Leoni Jansen de theaters in om te zingen én te vertellen. Ze leest columns voor over haar leven op de boerderij en verhaalt over ongewenste dieren\, pelgrimstochten en haar liefde voor de natuur. Met een karrevracht aan muzikale ervaring en drie gitaren in de bagage brengt Jansen natuurlijk ook de nodige nummers ten gehore. Geniet van liedjes als ‘Kind van de Maan’\, ‘Klaverveld’ en ‘Blowin’ in the Wind’.
URL:https://www.leoni.nl/event/leoni-jansen-solo-tilburg/
LOCATION:Heyhoef\, Tilburg
END:VEVENT
BEGIN:VEVENT
DTSTART;TZID=Europe/Amsterdam:20241109T200000
DTEND;TZID=Europe/Amsterdam:20241109T223000
DTSTAMP:20260421T104504
CREATED:20240910T151450Z
LAST-MODIFIED:20240910T151450Z
UID:2552-1731182400-1731191400@www.leoni.nl
SUMMARY:Leoni Jansen & Carel Kraayenhof - Melancholie in de Polder 2
DESCRIPTION:Met het succes van ‘Melancholie in de Polder’ nog nagalmend in hun oren\, stappen Leoni en Carel opnieuw in het avontuur met een gloednieuw programma: ‘Melancholie in de Polder 2’. Ze blijven trouw aan de beproefde methode; spelen wat ze mooi vinden en dat delen ze met het publiek.  Of het nu gaat om Keltische traditionals  of Argentijnse volksmuziek\, een lied van Mercedes Sosa of een Nederlandstalig popnummer\, of het nu instrumentale muziek is voor Bandoneon en Bodhran of een lied van Rory Block… het komt allemaal samen omdat zij het spelen en vooral omdat zij het écht weten te vertellen. 
URL:https://www.leoni.nl/event/leoni-jansen-carel-kraayenhof-melancholie-in-de-polder-2-38/
LOCATION:Scagon Theater\, Schagen
END:VEVENT
BEGIN:VEVENT
DTSTART;TZID=Europe/Amsterdam:20241103T143000
DTEND;TZID=Europe/Amsterdam:20241103T170000
DTSTAMP:20260421T104504
CREATED:20240921T173257Z
LAST-MODIFIED:20240921T173257Z
UID:2628-1730644200-1730653200@www.leoni.nl
SUMMARY:Leoni Jansen Solo - Vleuten
DESCRIPTION:Terwijl de wereld in brand staat\, trekt Leoni Jansen de theaters in om te zingen én te vertellen. Ze leest columns voor over haar leven op de boerderij en verhaalt over ongewenste dieren\, pelgrimstochten en haar liefde voor de natuur. Met een karrevracht aan muzikale ervaring en drie gitaren in de bagage brengt Jansen natuurlijk ook de nodige nummers ten gehore. Geniet van liedjes als ‘Kind van de Maan’\, ‘Klaverveld’ en ‘Blowin’ in the Wind’.
URL:https://www.leoni.nl/event/leoni-jansen-solo-vleuten/
LOCATION:Vrienden van de Schakel\, Vleuten
END:VEVENT
BEGIN:VEVENT
DTSTART;TZID=Europe/Amsterdam:20241102T200000
DTEND;TZID=Europe/Amsterdam:20241102T230000
DTSTAMP:20260421T104504
CREATED:20240920T161238Z
LAST-MODIFIED:20240920T161343Z
UID:2601-1730577600-1730588400@www.leoni.nl
SUMMARY:Leoni Jansen Solo - Vroomshoop
DESCRIPTION:Terwijl de wereld in brand staat\, trekt Leoni Jansen de theaters in om te zingen én te vertellen. Ze leest columns voor over haar leven op de boerderij en verhaalt over ongewenste dieren\, pelgrimstochten en haar liefde voor de natuur. \nMet een karrevracht aan muzikale ervaring en drie gitaren in de bagage brengt Jansen natuurlijk ook de nodige nummers ten gehore. Geniet van liedjes als ‘Kind van de Maan’\, ‘Klaverveld’ en ‘Blowin’ in the Wind’.
URL:https://www.leoni.nl/event/leoni-jansen-solo-vroomshoop/
LOCATION:Het Punt\, Vroomshoop
END:VEVENT
BEGIN:VEVENT
DTSTART;TZID=Europe/Amsterdam:20241027T203000
DTEND;TZID=Europe/Amsterdam:20241027T223000
DTSTAMP:20260421T104504
CREATED:20240624T170715Z
LAST-MODIFIED:20240630T074319Z
UID:2533-1730061000-1730068200@www.leoni.nl
SUMMARY:Leoni Jansen & Jeroen Kramer  - Vette Duetten
DESCRIPTION:Zang-maestra Leoni Jansen en zingende liedschrijver Jeroen Kramer versmelten hun stemmen in een heerlijke verzameling duetten.
URL:https://www.leoni.nl/event/leoni-jansen-carel-kraayenhof-melancholie-in-de-polder-2-36/
LOCATION:De Wegwijzer\, Nieuw en St. Joosland
END:VEVENT
BEGIN:VEVENT
DTSTART;TZID=Europe/Amsterdam:20241026T080000
DTEND;TZID=Europe/Amsterdam:20241026T170000
DTSTAMP:20260421T104504
CREATED:20240624T170515Z
LAST-MODIFIED:20241017T072943Z
UID:2530-1729929600-1729962000@www.leoni.nl
SUMMARY:Leoni Jansen & Jeroen Kramer - Vette Duetten
DESCRIPTION:Zang-maestra Leoni Jansen en zingende liedschrijver Jeroen Kramer versmelten hun stemmen in een heerlijke verzameling duetten.
URL:https://www.leoni.nl/event/leoni-jansen-jeroen-kramer-vette-duetten-4/
LOCATION:De Schaapskooi\, Achterveld
END:VEVENT
BEGIN:VEVENT
DTSTART;TZID=Europe/Amsterdam:20241020T200000
DTEND;TZID=Europe/Amsterdam:20241020T220000
DTSTAMP:20260421T104504
CREATED:20240624T170317Z
LAST-MODIFIED:20240624T170317Z
UID:2527-1729454400-1729461600@www.leoni.nl
SUMMARY:Leoni Jansen & Jeroen Kramer - Vette Duetten
DESCRIPTION:Zang-maestra Leoni Jansen en zingende liedschrijver Jeroen Kramer versmelten hun stemmen in een heerlijke verzameling duetten.
URL:https://www.leoni.nl/event/leoni-jansen-jeroen-kramer-vette-duetten-3/
LOCATION:Islemunda\, Rotterdam
END:VEVENT
BEGIN:VEVENT
DTSTART;TZID=Europe/Amsterdam:20241018T200000
DTEND;TZID=Europe/Amsterdam:20241018T220000
DTSTAMP:20260421T104504
CREATED:20240624T170132Z
LAST-MODIFIED:20240624T170132Z
UID:2525-1729281600-1729288800@www.leoni.nl
SUMMARY:Leoni Jansen & Jeroen Kramer - Vette Duetten
DESCRIPTION:Zang-maestra Leoni Jansen en zingende liedschrijver Jeroen Kramer versmelten hun stemmen in een heerlijke verzameling duetten.
URL:https://www.leoni.nl/event/leoni-jansen-jeroen-kramer-vette-duetten-2/
END:VEVENT
BEGIN:VEVENT
DTSTART;TZID=Europe/Amsterdam:20241013T150000
DTEND;TZID=Europe/Amsterdam:20241013T170000
DTSTAMP:20260421T104504
CREATED:20240624T171054Z
LAST-MODIFIED:20240911T085539Z
UID:2537-1728831600-1728838800@www.leoni.nl
SUMMARY:Leoni Jansen & Carel Kraayenhof - Melancholie in de Polder 2
DESCRIPTION:Met het succes van ‘Melancholie in de Polder’ nog nagalmend in hun oren\, stappen Leoni en Carel opnieuw in het avontuur met een gloednieuw programma: ‘Melancholie in de Polder 2’. Ze blijven trouw aan de beproefde methode; spelen wat ze mooi vinden en dat delen ze met het publiek.  Of het nu gaat om Keltische traditionals  of Argentijnse volksmuziek\, een lied van Mercedes Sosa of een Nederlandstalig popnummer\, of het nu instrumentale muziek is voor Bandoneon en Bodhran of een lied van Rory Block… het komt allemaal samen omdat zij het spelen en vooral omdat zij het écht weten te vertellen.
URL:https://www.leoni.nl/event/leoni-jansen-carel-kraayenhof-melancholie-in-de-polder-2-37/
LOCATION:Theater Rhederart\, Spankeren
END:VEVENT
BEGIN:VEVENT
DTSTART;TZID=Europe/Amsterdam:20241009T080000
DTEND;TZID=Europe/Amsterdam:20241012T170000
DTSTAMP:20260421T104504
CREATED:20240624T171520Z
LAST-MODIFIED:20240624T171654Z
UID:2543-1728460800-1728752400@www.leoni.nl
SUMMARY:Leoni Jansen - Bezingingsweekend (Uitverkocht)
DESCRIPTION:Van 9 oktober t/m 12 oktober wordt er weer een Bezingingsweekend georganiseerd in de Eifel. Een weekend vol zingen\, wandelen\, yoga\, dineren en plezier maken. Dit weekend wordt door Leoni Jansen georganiseerd en is UITVERKOCHT.
URL:https://www.leoni.nl/event/leoni-jansen-bezingingsweekend-uitverkocht-2/
END:VEVENT
BEGIN:VEVENT
DTSTART;TZID=Europe/Amsterdam:20241006T200000
DTEND;TZID=Europe/Amsterdam:20241006T220000
DTSTAMP:20260421T104504
CREATED:20240624T171316Z
LAST-MODIFIED:20240624T171316Z
UID:2540-1728244800-1728252000@www.leoni.nl
SUMMARY:Leoni Jansen - Solo
DESCRIPTION:Terwijl de wereld in brand staat\, trekt Leoni Jansen de theaters in om te zingen én te vertellen. Ze leest columns voor over haar leven op de boerderij en verhaalt over ongewenste dieren\, pelgrimstochten\, haar liefde voor de natuur en over onverwachte ontmoetingen met werklui op de brug in de wei. \nMet een karrevracht aan muzikale ervaring en drie gitaren in de bagage brengt Jansen natuurlijk ook de nodige nummers ten gehore. Geniet van liedjes als ‘Kind van de Maan’\, ‘Klaverveld’ en ‘Blowin’ in the Wind’.
URL:https://www.leoni.nl/event/leoni-jansen-solo/
LOCATION:Studio de Bakkerij\, Rotterdam
END:VEVENT
BEGIN:VEVENT
DTSTART;TZID=Europe/Amsterdam:20241004T200000
DTEND;TZID=Europe/Amsterdam:20241004T220000
DTSTAMP:20260421T104504
CREATED:20240624T165955Z
LAST-MODIFIED:20240624T165955Z
UID:2522-1728072000-1728079200@www.leoni.nl
SUMMARY:Leoni Jansen & Jeroen Kramer - Vette Duetten
DESCRIPTION:Zang-maestra Leoni Jansen en zingende liedschrijver Jeroen Kramer versmelten hun stemmen in een heerlijke verzameling duetten.
URL:https://www.leoni.nl/event/leoni-jansen-jeroen-kramer-vette-duetten/
LOCATION:De Mess\, Naarden
END:VEVENT
BEGIN:VEVENT
DTSTART;TZID=Europe/Amsterdam:20240914T080000
DTEND;TZID=Europe/Amsterdam:20240917T170000
DTSTAMP:20260421T104504
CREATED:20240624T165635Z
LAST-MODIFIED:20240624T171544Z
UID:2520-1726300800-1726592400@www.leoni.nl
SUMMARY:Leoni Jansen - Bezingingsweekend (uitverkocht)
DESCRIPTION:Van 14 september t/m 17 september wordt er weer een Bezingingsweekend georganiseerd in de Eifel. Een weekend vol zingen\, wandelen\, yoga\, dineren en plezier maken. Dit weekend wordt door Leoni Jansen georganiseerd en is UITVERKOCHT.
URL:https://www.leoni.nl/event/leoni-jansen-bezingingsweekend-uitverkocht/
END:VEVENT
BEGIN:VEVENT
DTSTART;TZID=Europe/Amsterdam:20240714T140000
DTEND;TZID=Europe/Amsterdam:20240714T160000
DTSTAMP:20260421T104504
CREATED:20240506T065348Z
LAST-MODIFIED:20240703T121822Z
UID:2437-1720965600-1720972800@www.leoni.nl
SUMMARY:Leoni Jansen Solo - Steenbergen
DESCRIPTION:Terwijl de wereld in brand staat\, trekt Leoni Jansen de theaters in om te zingen én te vertellen. Ze leest columns voor over haar leven op de boerderij en verhaalt over ongewenste dieren\, pelgrimstochten en haar liefde voor de natuur. \nMet een karrevracht aan muzikale ervaring en drie gitaren in de bagage brengt Jansen natuurlijk ook de nodige nummers ten gehore. Geniet van liedjes als ‘Kind van de Maan’\, ‘Klaverveld’ en ‘Blowin’ in the Wind’.
URL:https://www.leoni.nl/event/leoni-jansen-solo-steenbergen/
LOCATION:Landgoed Steenbergerveld\, Steenbergen
END:VEVENT
BEGIN:VEVENT
DTSTART;TZID=Europe/Amsterdam:20240706T200000
DTEND;TZID=Europe/Amsterdam:20240706T220000
DTSTAMP:20260421T104504
CREATED:20240506T065054Z
LAST-MODIFIED:20240506T065054Z
UID:2435-1720296000-1720303200@www.leoni.nl
SUMMARY:Leoni Jansen - Pelgrim-dag - Amen
DESCRIPTION:
URL:https://www.leoni.nl/event/leoni-jansen-pelgrim-dag-amen/
LOCATION:Café de Amer\, Amen
END:VEVENT
BEGIN:VEVENT
DTSTART;TZID=Europe/Amsterdam:20240705T200000
DTEND;TZID=Europe/Amsterdam:20240705T220000
DTSTAMP:20260421T104504
CREATED:20240506T064908Z
LAST-MODIFIED:20240506T064908Z
UID:2432-1720209600-1720216800@www.leoni.nl
SUMMARY:Leoni Jansen & Melancholie in de Polder 2 (besloten)
DESCRIPTION:Met Leoni en Carel op het podium heb je niet alleen twee rasmuzikanten met mooie muziek en verhalen in huis\, maar ook een brok aan plezier\, energie en een gezamenlijke beleving van wat live muziek kan brengen. Hun vorige tournee smaakt naar meer\, vandaar Melancholie in de Polder 2. Omdat ze beiden in de polder wonen\, ze elkaar inspireren met hun liefde voor zowel de Zuid Amerikaanse als Keltische muziek en omdat er nog zoveel moois te spelen valt. Boordevol nieuwe ideeën dagen ze elkaar uit en tillen elkaar op; 1 en 1 is 3. Met stukken van Piazolla\, Schotse traditionals\, maar ook Nederlandstalige muziek. Een bandoneon\, een gitaar\, een prachtige stem en een bodhran. Hoe simpel en hoe prachtig!
URL:https://www.leoni.nl/event/leoni-jansen-melancholie-in-de-polder-2-besloten/
LOCATION:Theater ‘t Voorhuis
END:VEVENT
BEGIN:VEVENT
DTSTART;TZID=Europe/Amsterdam:20240704T203000
DTEND;TZID=Europe/Amsterdam:20240704T230000
DTSTAMP:20260421T104504
CREATED:20240506T064654Z
LAST-MODIFIED:20240506T064654Z
UID:2429-1720125000-1720134000@www.leoni.nl
SUMMARY:Leoni Jansen & Carel Kraayenhof - Melancholie in de Polder 2
DESCRIPTION:Met Leoni en Carel op het podium heb je niet alleen twee rasmuzikanten met mooie muziek en verhalen in huis\, maar ook een brok aan plezier\, energie en een gezamenlijke beleving van wat live muziek kan brengen. Hun vorige tournee smaakt naar meer\, vandaar Melancholie in de Polder 2. Omdat ze beiden in de polder wonen\, ze elkaar inspireren met hun liefde voor zowel de Zuid Amerikaanse als Keltische muziek en omdat er nog zoveel moois te spelen valt. Boordevol nieuwe ideeën dagen ze elkaar uit en tillen elkaar op; 1 en 1 is 3. Met stukken van Piazolla\, Schotse traditionals\, maar ook Nederlandstalige muziek. Een bandoneon\, een gitaar\, een prachtige stem en een bodhran. Hoe simpel en hoe prachtig!
URL:https://www.leoni.nl/event/leoni-jansen-carel-kraayenhof-melancholie-in-de-polder-2-12/
LOCATION:Theater Walhalla\, Rotterdam
END:VEVENT
BEGIN:VEVENT
DTSTART;TZID=Europe/Amsterdam:20240531T203000
DTEND;TZID=Europe/Amsterdam:20240531T223000
DTSTAMP:20260421T104504
CREATED:20231229T104950Z
LAST-MODIFIED:20231229T104950Z
UID:2387-1717187400-1717194600@www.leoni.nl
SUMMARY:Leoni Jansen & Carel Kraayenhof - Melancholie in de Polder 2
DESCRIPTION:Met Leoni en Carel op het podium heb je niet alleen twee rasmuzikanten met mooie muziek en verhalen in huis\, maar ook een brok aan plezier\, energie en een gezamenlijke beleving van wat live muziek kan brengen. Hun vorige tournee smaakt naar meer\, vandaar Melancholie in de Polder 2. Omdat ze beiden in de polder wonen\, ze elkaar inspireren met hun liefde voor zowel de Zuid Amerikaanse als Keltische muziek en omdat er nog zoveel moois te spelen valt. Boordevol nieuwe ideeën dagen ze elkaar uit en tillen elkaar op; 1 en 1 is 3. Met stukken van Piazolla\, Schotse traditionals\, maar ook Nederlandstalige muziek. Een bandoneon\, een gitaar\, een prachtige stem en een bodhran. Hoe simpel en hoe prachtig!
URL:https://www.leoni.nl/event/leoni-jansen-carel-kraayenhof-melancholie-in-de-polder-2-14/
LOCATION:De Oostkerk Middelburg\, Oostkerkplein 1\, Middelburg\, 4331TL
END:VEVENT
BEGIN:VEVENT
DTSTART;TZID=Europe/Amsterdam:20240526T153000
DTEND;TZID=Europe/Amsterdam:20240526T170000
DTSTAMP:20260421T104504
CREATED:20231229T104758Z
LAST-MODIFIED:20231229T104758Z
UID:2385-1716737400-1716742800@www.leoni.nl
SUMMARY:Leoni Jansen & Carel Kraayenhof - Melancholie in de Polder 2
DESCRIPTION:Met Leoni en Carel op het podium heb je niet alleen twee rasmuzikanten met mooie muziek en verhalen in huis\, maar ook een brok aan plezier\, energie en een gezamenlijke beleving van wat live muziek kan brengen. Hun vorige tournee smaakt naar meer\, vandaar Melancholie in de Polder 2. Omdat ze beiden in de polder wonen\, ze elkaar inspireren met hun liefde voor zowel de Zuid Amerikaanse als Keltische muziek en omdat er nog zoveel moois te spelen valt. Boordevol nieuwe ideeën dagen ze elkaar uit en tillen elkaar op; 1 en 1 is 3. Met stukken van Piazolla\, Schotse traditionals\, maar ook Nederlandstalige muziek. Een bandoneon\, een gitaar\, een prachtige stem en een bodhran. Hoe simpel en hoe prachtig!
URL:https://www.leoni.nl/event/leoni-jansen-carel-kraayenhof-melancholie-in-de-polder-2-13/
LOCATION:Keizersgrachtkerk Amsterdam\, Keizersgracht 566\, Amsterdam\, 1017 EM\, Netherlands
END:VEVENT
BEGIN:VEVENT
DTSTART;TZID=Europe/Amsterdam:20240512T200000
DTEND;TZID=Europe/Amsterdam:20240512T220000
DTSTAMP:20260421T104504
CREATED:20231229T104418Z
LAST-MODIFIED:20231229T104418Z
UID:2380-1715544000-1715551200@www.leoni.nl
SUMMARY:Leoni Jansen & Carel Kraayenhof - Melancholie in de Polder 2
DESCRIPTION:Met Leoni en Carel op het podium heb je niet alleen twee rasmuzikanten met mooie muziek en verhalen in huis\, maar ook een brok aan plezier\, energie en een gezamenlijke beleving van wat live muziek kan brengen. Hun vorige tournee smaakt naar meer\, vandaar Melancholie in de Polder 2. Omdat ze beiden in de polder wonen\, ze elkaar inspireren met hun liefde voor zowel de Zuid Amerikaanse als Keltische muziek en omdat er nog zoveel moois te spelen valt. Boordevol nieuwe ideeën dagen ze elkaar uit en tillen elkaar op; 1 en 1 is 3. Met stukken van Piazolla\, Schotse traditionals\, maar ook Nederlandstalige muziek. Een bandoneon\, een gitaar\, een prachtige stem en een bodhran. Hoe simpel en hoe prachtig!
URL:https://www.leoni.nl/event/leoni-jansen-carel-kraayenhof-melancholie-in-de-polder-2-11/
END:VEVENT
BEGIN:VEVENT
DTSTART;TZID=Europe/Amsterdam:20240512T160000
DTEND;TZID=Europe/Amsterdam:20240512T180000
DTSTAMP:20260421T104504
CREATED:20231229T104229Z
LAST-MODIFIED:20231229T104229Z
UID:2378-1715529600-1715536800@www.leoni.nl
SUMMARY:Leoni Jansen & Carel Kraayenhof - Melancholie in de Polder 2
DESCRIPTION:Met Leoni en Carel op het podium heb je niet alleen twee rasmuzikanten met mooie muziek en verhalen in huis\, maar ook een brok aan plezier\, energie en een gezamenlijke beleving van wat live muziek kan brengen. Hun vorige tournee smaakt naar meer\, vandaar Melancholie in de Polder 2. Omdat ze beiden in de polder wonen\, ze elkaar inspireren met hun liefde voor zowel de Zuid Amerikaanse als Keltische muziek en omdat er nog zoveel moois te spelen valt. Boordevol nieuwe ideeën dagen ze elkaar uit en tillen elkaar op; 1 en 1 is 3. Met stukken van Piazolla\, Schotse traditionals\, maar ook Nederlandstalige muziek. Een bandoneon\, een gitaar\, een prachtige stem en een bodhran. Hoe simpel en hoe prachtig!
URL:https://www.leoni.nl/event/leoni-jansen-carel-kraayenhof-melancholie-in-de-polder-2-10/
END:VEVENT
BEGIN:VEVENT
DTSTART;TZID=Europe/Amsterdam:20240511T201500
DTEND;TZID=Europe/Amsterdam:20240511T230000
DTSTAMP:20260421T104504
CREATED:20231229T104030Z
LAST-MODIFIED:20231229T105314Z
UID:2375-1715458500-1715468400@www.leoni.nl
SUMMARY:Leoni Jansen & Carel Kraayenhof - Melancholie in de Polder 2
DESCRIPTION:Met Leoni en Carel op het podium heb je niet alleen twee rasmuzikanten met mooie muziek en verhalen in huis\, maar ook een brok aan plezier\, energie en een gezamenlijke beleving van wat live muziek kan brengen. Hun vorige tournee smaakt naar meer\, vandaar Melancholie in de Polder 2. Omdat ze beiden in de polder wonen\, ze elkaar inspireren met hun liefde voor zowel de Zuid Amerikaanse als Keltische muziek en omdat er nog zoveel moois te spelen valt. Boordevol nieuwe ideeën dagen ze elkaar uit en tillen elkaar op; 1 en 1 is 3. Met stukken van Piazolla\, Schotse traditionals\, maar ook Nederlandstalige muziek. Een bandoneon\, een gitaar\, een prachtige stem en een bodhran. Hoe simpel en hoe prachtig!
URL:https://www.leoni.nl/event/leoni-jansen-carel-kraayenhof-melancholie-in-de-polder-2-9/
LOCATION:Podium Onder De Toren\, Grootschermer
END:VEVENT
BEGIN:VEVENT
DTSTART;TZID=Europe/Amsterdam:20240505T201500
DTEND;TZID=Europe/Amsterdam:20240505T223000
DTSTAMP:20260421T104504
CREATED:20231229T103801Z
LAST-MODIFIED:20231229T103801Z
UID:2372-1714940100-1714948200@www.leoni.nl
SUMMARY:Leoni Jansen & Carel Kraayenhof - Melancholie in de Polder 2
DESCRIPTION:Met Leoni en Carel op het podium heb je niet alleen twee rasmuzikanten met mooie muziek en verhalen in huis\, maar ook een brok aan plezier\, energie en een gezamenlijke beleving van wat live muziek kan brengen. Hun vorige tournee smaakt naar meer\, vandaar Melancholie in de Polder 2. Omdat ze beiden in de polder wonen\, ze elkaar inspireren met hun liefde voor zowel de Zuid Amerikaanse als Keltische muziek en omdat er nog zoveel moois te spelen valt. Boordevol nieuwe ideeën dagen ze elkaar uit en tillen elkaar op; 1 en 1 is 3. Met stukken van Piazolla\, Schotse traditionals\, maar ook Nederlandstalige muziek. Een bandoneon\, een gitaar\, een prachtige stem en een bodhran. Hoe simpel en hoe prachtig!
URL:https://www.leoni.nl/event/leoni-jansen-carel-kraayenhof-melancholie-in-de-polder-2-8/
LOCATION:De Dillewijn\, Ankeveen
END:VEVENT
BEGIN:VEVENT
DTSTART;TZID=Europe/Amsterdam:20240428T150000
DTEND;TZID=Europe/Amsterdam:20240428T170000
DTSTAMP:20260421T104504
CREATED:20231229T103615Z
LAST-MODIFIED:20231229T103615Z
UID:2369-1714316400-1714323600@www.leoni.nl
SUMMARY:Leoni Jansen & Carel Kraayenhof - Melancholie in de Polder 2
DESCRIPTION:Met Leoni en Carel op het podium heb je niet alleen twee rasmuzikanten met mooie muziek en verhalen in huis\, maar ook een brok aan plezier\, energie en een gezamenlijke beleving van wat live muziek kan brengen. Hun vorige tournee smaakt naar meer\, vandaar Melancholie in de Polder 2. Omdat ze beiden in de polder wonen\, ze elkaar inspireren met hun liefde voor zowel de Zuid Amerikaanse als Keltische muziek en omdat er nog zoveel moois te spelen valt. Boordevol nieuwe ideeën dagen ze elkaar uit en tillen elkaar op; 1 en 1 is 3. Met stukken van Piazolla\, Schotse traditionals\, maar ook Nederlandstalige muziek. Een bandoneon\, een gitaar\, een prachtige stem en een bodhran. Hoe simpel en hoe prachtig!
URL:https://www.leoni.nl/event/leoni-jansen-carel-kraayenhof-melancholie-in-de-polder-2-7/
LOCATION:Scagon Theater\, Schagen
END:VEVENT
BEGIN:VEVENT
DTSTART;TZID=Europe/Amsterdam:20240426T201500
DTEND;TZID=Europe/Amsterdam:20240426T230000
DTSTAMP:20260421T104504
CREATED:20231229T103417Z
LAST-MODIFIED:20231229T103417Z
UID:2367-1714162500-1714172400@www.leoni.nl
SUMMARY:Leoni Jansen & Carel Kraayenhof - Melancholie in de Polder 2
DESCRIPTION:Met Leoni en Carel op het podium heb je niet alleen twee rasmuzikanten met mooie muziek en verhalen in huis\, maar ook een brok aan plezier\, energie en een gezamenlijke beleving van wat live muziek kan brengen. Hun vorige tournee smaakt naar meer\, vandaar Melancholie in de Polder 2. Omdat ze beiden in de polder wonen\, ze elkaar inspireren met hun liefde voor zowel de Zuid Amerikaanse als Keltische muziek en omdat er nog zoveel moois te spelen valt. Boordevol nieuwe ideeën dagen ze elkaar uit en tillen elkaar op; 1 en 1 is 3. Met stukken van Piazolla\, Schotse traditionals\, maar ook Nederlandstalige muziek. Een bandoneon\, een gitaar\, een prachtige stem en een bodhran. Hoe simpel en hoe prachtig!
URL:https://www.leoni.nl/event/leoni-jansen-carel-kraayenhof-melancholie-in-de-polder-2-6/
END:VEVENT
BEGIN:VEVENT
DTSTART;TZID=Europe/Amsterdam:20240420T200000
DTEND;TZID=Europe/Amsterdam:20240420T200000
DTSTAMP:20260421T104504
CREATED:20231229T103103Z
LAST-MODIFIED:20231229T103103Z
UID:2364-1713643200-1713643200@www.leoni.nl
SUMMARY:Leoni Jansen & Carel Kraayenhof - Melancholie in de Polder 2
DESCRIPTION:Met Leoni en Carel op het podium heb je niet alleen twee rasmuzikanten met mooie muziek en verhalen in huis\, maar ook een brok aan plezier\, energie en een gezamenlijke beleving van wat live muziek kan brengen. Hun vorige tournee smaakt naar meer\, vandaar Melancholie in de Polder 2. Omdat ze beiden in de polder wonen\, ze elkaar inspireren met hun liefde voor zowel de Zuid Amerikaanse als Keltische muziek en omdat er nog zoveel moois te spelen valt. Boordevol nieuwe ideeën dagen ze elkaar uit en tillen elkaar op; 1 en 1 is 3. Met stukken van Piazolla\, Schotse traditionals\, maar ook Nederlandstalige muziek. Een bandoneon\, een gitaar\, een prachtige stem en een bodhran. Hoe simpel en hoe prachtig!
URL:https://www.leoni.nl/event/leoni-jansen-carel-kraayenhof-melancholie-in-de-polder-2-5/
LOCATION:Café de Amer\, Amen
END:VEVENT
BEGIN:VEVENT
DTSTART;TZID=Europe/Amsterdam:20240419T200000
DTEND;TZID=Europe/Amsterdam:20240419T230000
DTSTAMP:20260421T104504
CREATED:20230824T141549Z
LAST-MODIFIED:20240112T085756Z
UID:2274-1713556800-1713567600@www.leoni.nl
SUMMARY:Leoni Jansen - Solo - PHIL\, Haarlem
DESCRIPTION:In een wereld die in brand staat\, tussen alle rumoer\, gaat Leoni Jansen op pad met haar gitaren om te zingen én te vertellen. In een wereld die in brand staat\, tuse soms ongewenste dieren; zoals de bosmuis en de naaktslak\, over haar pelgrimstochten\, over haar liefde voor de natuur en over onverwachte ontmoetingen met asfaltmannen op haar brug in het weiland. Met drie gitaren en een hoop muzikale ervaring. \nVoor inspiratie en schoonheid moet u hier zijn; in de intieme zalen staat de wereld even stil en kunt u schuilen bij verhalen en klassiekers als Kind van de Maan\, Klaverveld en Blowin’ in the Wind. Dichtbij Leoni.
URL:https://www.leoni.nl/event/leoni-jansen-solo-phil-haarlem/
END:VEVENT
BEGIN:VEVENT
DTSTART;TZID=Europe/Amsterdam:20240413T201500
DTEND;TZID=Europe/Amsterdam:20240413T223000
DTSTAMP:20260421T104504
CREATED:20231229T102805Z
LAST-MODIFIED:20231229T102805Z
UID:2361-1713039300-1713047400@www.leoni.nl
SUMMARY:Leoni Jansen & Carel Kraayenhof - Melancholie in de Polder 2
DESCRIPTION:Met Leoni en Carel op het podium heb je niet alleen twee rasmuzikanten met mooie muziek en verhalen in huis\, maar ook een brok aan plezier\, energie en een gezamenlijke beleving van wat live muziek kan brengen. Hun vorige tournee smaakt naar meer\, vandaar Melancholie in de Polder 2. Omdat ze beiden in de polder wonen\, ze elkaar inspireren met hun liefde voor zowel de Zuid Amerikaanse als Keltische muziek en omdat er nog zoveel moois te spelen valt. Boordevol nieuwe ideeën dagen ze elkaar uit en tillen elkaar op; 1 en 1 is 3. Met stukken van Piazolla\, Schotse traditionals\, maar ook Nederlandstalige muziek. Een bandoneon\, een gitaar\, een prachtige stem en een bodhran. Hoe simpel en hoe prachtig!
URL:https://www.leoni.nl/event/leoni-jansen-carel-kraayenhof-melancholie-in-de-polder-2-4/
LOCATION:Grote Kerk Loenen\, Loenen aan de Vecht
END:VEVENT
END:VCALENDAR